BEGIN:VCALENDAR
VERSION:2.0
PRODID:-//Cap City Quartet • Columbus Based Musicians - ECPv6.15.20//NONSGML v1.0//EN
CALSCALE:GREGORIAN
METHOD:PUBLISH
X-WR-CALNAME:Cap City Quartet • Columbus Based Musicians
X-ORIGINAL-URL:https://www.capcityquartet.com
X-WR-CALDESC:Events for Cap City Quartet • Columbus Based Musicians
REFRESH-INTERVAL;VALUE=DURATION:PT1H
X-Robots-Tag:noindex
X-PUBLISHED-TTL:PT1H
BEGIN:VTIMEZONE
TZID:UTC
BEGIN:STANDARD
TZOFFSETFROM:+0000
TZOFFSETTO:+0000
TZNAME:UTC
DTSTART:20250101T000000
END:STANDARD
END:VTIMEZONE
BEGIN:VEVENT
DTSTART;TZID=UTC:20260426T190000
DTEND;TZID=UTC:20260426T200000
DTSTAMP:20260419T164041
CREATED:20260407T150223Z
LAST-MODIFIED:20260407T150223Z
UID:3178-1777230000-1777233600@www.capcityquartet.com
SUMMARY:Candlelight: Coldplay vs. Imagine Dragons
DESCRIPTION:⭐   Candlelight    concerts bring the magic of a live\, multi-sensory musical experience to awe-inspiring locations like never seen before in Columbus. Get your tickets now to discover the music of Coldplay vs. Imagine Dragons at Columbus Museum of Art under the gentle glow of candlelight.   \n General Info\n📍 Venue: Columbus Museum of Art (Cardinal Health Auditorium)\n📅 Dates and times: select your dates/times directly in the ticket selector\n⏳ Duration: 60 minutes. Doors open 45 minutes before the show. No entry once it starts.\n👤 Age requirement: 8 years old or older. Anyone under the age of 16 must be accompanied by an adult\n♿ Accessibility: this venue is ADA compliant\n❓ View the FAQs for this event  here\n🪑 Seating is assigned on a first come first served basis in each zone\n🕯️ If you would like to book a private concert or buy regular tickets for a large group (+30 people)\, click  here\n🎻 Check out all the  Candlelight concerts  in Columbus\n🎁 To treat your friends and family to a Candlelight gift card\, click  here   \n Tentative Program  \n	 Coldplay – Clocks\n	 Coldplay – Something Just Like This\n	 Imagine Dragons – Radioactive\n	 Coldplay – Adventure of a Lifetime\n	 Coldplay – Fix You\n	 Imagine Dragons – Eyes Closed\n	 Imagine Dragons – Nice to Meet You\n	 Coldplay – The Scientist\n	 Coldplay – feelslikeimfallinginlove\n	 Imagine Dragons – Follow You\n	 Imagine Dragons – Bad Liar\n	 Coldplay – Viva la Vida\n	 Imagine Dragons – Believer\n	 Coldplay – Sky Full of Stars  \n Performers  \n	   ﻿  Listeso String Quartet  \n  \n  Seating Map   \nProgram\n\nColdplay – Clocks\nColdplay – Something Just Like This\nImagine Dragons – Radioactive\nColdplay – Adventure of a Lifetime\nColdplay – Fix You\nImagine Dragons – Eyes Closed\nImagine Dragons – Nice to Meet You\nColdplay – The Scientist\nColdplay – feelslikeimfallinginlove\nImagine Dragons – Follow You\nImagine Dragons – Bad Liar\nColdplay – Viva la Vida\nImagine Dragons – Believer\nColdplay – Sky Full of Stars\n\nEvent Details\n\nVenue: Columbus Museum of Art\nCity: Columbus\nShowtimes: 8:45p\nPerformers: Listeso String Quartet\,  \nTickets: From $39\n\nBuy Tickets  |  Get a Quote
URL:https://www.capcityquartet.com/concert/candlelight-coldplay-vs-imagine-dragons-4/
LOCATION:Columbus Museum of Art\, Columbus\, OH\, US
END:VEVENT
BEGIN:VEVENT
DTSTART;TZID=UTC:20260503T190000
DTEND;TZID=UTC:20260503T200000
DTSTAMP:20260419T164041
CREATED:20260407T150155Z
LAST-MODIFIED:20260407T150155Z
UID:3180-1777834800-1777838400@www.capcityquartet.com
SUMMARY:Candlelight: Tribute to Queen
DESCRIPTION:⭐   Candlelight  concerts bring the magic of a live\, multi-sensory musical experience to awe-inspiring locations like never seen before in Columbus. Get your tickets now to discover the music of Queen at Columbus Museum of Art under the gentle glow of candlelight.   \n  General Info\n📍 Venue: Columbus Museum of Art\n📅 Dates and times: select your dates/times directly in the ticket selector\n⏳ Duration: 60 minutes. Doors open 45 minutes before the show. No entry once it starts.\n👤 Age requirement: 8 years old or older. Anyone under the age of 16 must be accompanied by an adult\n♿ Accessibility: This venue is ADA compliant\n❓ View the FAQs for this event  here\n🪑 Seating is assigned on a first come first served basis in each zone\n🕯️ If you would like to book a private concert or buy regular tickets for a large group (+30 people)\, click  here\n🎻 Check out all the  Candlelight concerts  in Columbus\n🎁 To treat your friends and family to a Candlelight gift card\, click  here   \n  Tentative Program   \n	 I Want to Break Free\n	 We Will Rock You\n	 Somebody to Love\n	 Radio Ga Ga\n	 Don’t Stop Me Now\n	 Killer Queen\n	 Crazy Little Thing Called Love\n	 Who Wants to Live Forever\n	 Bohemian Rhapsody\n	 Love of My Life\n	 We Are the Champions\n	 Another One Bites the Dust  \n  Performers   \n	 Listeso String Quartet  \n  Seating Map   \nProgram\n\nI Want to Break Free\nWe Will Rock You\nSomebody to Love\nRadio Ga Ga\nDon’t Stop Me Now\nKiller Queen\nCrazy Little Thing Called Love\nWho Wants to Live Forever\nBohemian Rhapsody\nLove of My Life\nWe Are the Champions\nAnother One Bites the Dust\n\nEvent Details\n\nVenue: Columbus Museum of Art\nCity: Columbus\nShowtimes: 6:30p\nPerformers: Listeso String Quartet\nTickets: From $43.5\n\nBuy Tickets  |  Get a Quote
URL:https://www.capcityquartet.com/concert/candlelight-tribute-to-queen/
LOCATION:Columbus Museum of Art\, Columbus\, OH\, US
END:VEVENT
BEGIN:VEVENT
DTSTART;TZID=UTC:20260607T190000
DTEND;TZID=UTC:20260607T200000
DTSTAMP:20260419T164041
CREATED:20260408T090012Z
LAST-MODIFIED:20260408T090014Z
UID:3191-1780858800-1780862400@www.capcityquartet.com
SUMMARY:Candlelight: Tribute to Drake
DESCRIPTION:⭐   Candlelight  concerts bring the magic of a live\, multi-sensory musical experience to awe-inspiring locations like never seen before in Columbus. Get your tickets now to discover the music of Drake at Columbus Museum of Art under the gentle glow of candlelight.   \n  General Info\n📍 Venue: Columbus Museum of Art\n📅 Dates and times: select your dates/times directly in the ticket selector\n⏳ Duration: 60 minutes. Doors open 45 minutes before the show. No entry once it starts.\n👤 Age requirement: 8 years old or older. Anyone under the age of 16 must be accompanied by an adult\n♿ Accessibility: This venue is ADA compliant\n❓ View the FAQs for this event  here\n🪑 Seating is assigned on a first come first served basis in each zone\n🕯️ If you would like to book a private concert or buy regular tickets for a large group (+30 people)\, click  here\n🎻 Check out all the  Candlelight concerts  in Columbus\n🎁 To treat your friends and family to a Candlelight gift card\, click  here   \n  Tentative Program   \n	 Passionfruit\n	 Marvins Room\n	 Teenage Fever\n	 Headlines\n	 Take Care\n	 Laugh Now Cry Later\n	 God’s Plan\n	 Controlla\n	 Fair Trade\n	 Crew Love\n	 Over\n	 In My Feelings\n	 One Dance\n	 Hold On\, We’re Going Home  \n Performers   \n	 Listeso String Quartet  \n  Seating Map   \nProgram\n\nPassionfruit\nMarvins Room\nTeenage Fever\nHeadlines\nTake Care\nLaugh Now Cry Later\nGod’s Plan\nControlla\nFair Trade\nCrew Love\nOver\nIn My Feelings\nOne Dance\nHold On\, We’re Going Home\n\nEvent Details\n\nVenue: Columbus Museum of Art\nCity: Columbus\nShowtimes: 8:45p\nPerformers: Listeso String Quartet\nTickets: From $41\n\nBuy Tickets  |  Get a Quote
URL:https://www.capcityquartet.com/concert/candlelight-tribute-to-drake-3/
ATTACH;FMTTYPE=image/jpeg:https://www.capcityquartet.com/wp-content/uploads/2026/04/candlelight-tribute-to-drake.jpg
END:VEVENT
END:VCALENDAR